



BEGIN:VCALENDAR
VERSION:2.0
PRODID:-//Communauté d&#039;Agglomération du Puy-en-Velay, Haute-Loire (43) - ECPv4.6.25//NONSGML v1.0//EN
CALSCALE:GREGORIAN
METHOD:PUBLISH
X-WR-CALNAME:Communauté d&#039;Agglomération du Puy-en-Velay, Haute-Loire (43)
X-ORIGINAL-URL:https://www.agglo-lepuyenvelay.fr
X-WR-CALDESC:Évènements pour Communauté d&#039;Agglomération du Puy-en-Velay, Haute-Loire (43)
BEGIN:VEVENT
DTSTART;TZID=Europe/Paris:20190630T000000
DTEND;TZID=Europe/Paris:20190930T000000
DTSTAMP:20260425T115456
CREATED:20190520T075517Z
LAST-MODIFIED:20190520T075517Z
UID:17591221-1561852800-1569801600@www.agglo-lepuyenvelay.fr
SUMMARY:Exposition : Coup de foudre
DESCRIPTION:A travers cette exposition\, découvrez la foudre dans tous ses états\, des recherches scientifiques à l’art en passant pas les croyances populaires et la mythologie…\nUne exposition scientifique et ludique pour petits et grands. \nLieu : Mairie 43580 Saint-Privat-d’Allier \n \n
URL:https://www.agglo-lepuyenvelay.fr/event/exposition-coup-de-foudre/
CATEGORIES:Saint-Privat-d'Allier
ATTACH;FMTTYPE=image/png:https://www.agglo-lepuyenvelay.fr/wp-content/uploads/2019/05/apidae-event-img-2804.png
END:VEVENT
END:VCALENDAR