



BEGIN:VCALENDAR
VERSION:2.0
PRODID:-//Communauté d&#039;Agglomération du Puy-en-Velay, Haute-Loire (43) - ECPv4.6.25//NONSGML v1.0//EN
CALSCALE:GREGORIAN
METHOD:PUBLISH
X-WR-CALNAME:Communauté d&#039;Agglomération du Puy-en-Velay, Haute-Loire (43)
X-ORIGINAL-URL:https://www.agglo-lepuyenvelay.fr
X-WR-CALDESC:Évènements pour Communauté d&#039;Agglomération du Puy-en-Velay, Haute-Loire (43)
BEGIN:VEVENT
DTSTART;TZID=Europe/Paris:20200101T000000
DTEND;TZID=Europe/Paris:20201231T000000
DTSTAMP:20260422T021527
CREATED:20200225T080340Z
LAST-MODIFIED:20200225T080340Z
UID:18835073-1577836800-1609372800@www.agglo-lepuyenvelay.fr
SUMMARY:Au repaire de Bona
DESCRIPTION:Promenade à poneys\, balades à cheval et avec les ânes (sur rendez vous uniquement) \nLieu : Au repaire de BonaDallas 43580 Saint-Privat-d’Allier \nEn famille ou entre amis\, venez rendre visite aux animaux !\nL’espace d’une journée et au rythme des saisons \, découvrez les plaisirs de la ferme.\nPromenade à poneys\, balades à cheval et avec les ânes (sur rendez vous uniquement) \n
URL:https://www.agglo-lepuyenvelay.fr/event/au-repaire-de-bona/
LOCATION:43580
CATEGORIES:Saint-Privat-d'Allier
ATTACH;FMTTYPE=image/png:https://www.agglo-lepuyenvelay.fr/wp-content/uploads/2020/02/apidae-event-img-176.png
END:VEVENT
END:VCALENDAR