



BEGIN:VCALENDAR
VERSION:2.0
PRODID:-//Communauté d&#039;Agglomération du Puy-en-Velay, Haute-Loire (43) - ECPv4.6.25//NONSGML v1.0//EN
CALSCALE:GREGORIAN
METHOD:PUBLISH
X-WR-CALNAME:Communauté d&#039;Agglomération du Puy-en-Velay, Haute-Loire (43)
X-ORIGINAL-URL:https://www.agglo-lepuyenvelay.fr
X-WR-CALDESC:Évènements pour Communauté d&#039;Agglomération du Puy-en-Velay, Haute-Loire (43)
BEGIN:VEVENT
DTSTART;TZID=Europe/Paris:20191005T000000
DTEND;TZID=Europe/Paris:20191104T000000
DTSTAMP:20260426T010819
CREATED:20190828T065716Z
LAST-MODIFIED:20190828T065716Z
UID:18210060-1570233600-1572825600@www.agglo-lepuyenvelay.fr
SUMMARY:Saison culturelle : "Exposition Isabelle Tristan Coudrot"
DESCRIPTION:L’exposition Mes colères est à al fois un plaidoyer pour la cause animale et une révolte de l’égoïsme hypocrite et assassin\nRencontre avec l’artiste le samedi 5 octobre à 16h : Comprendre une démarche artistique.\nVernissage le dimanche 8 à partir de 11h. \nLieu :  \n 43800 Saint-Vincent \n“Je peins essentiellement à l’huile dont j’aime la sensualité\, je dessine sur toile et sur papier à l’encre de Chine\, et j’écris\, mes émotions contemplatives\, mes ressentis\, je compose des Haïkus et réalise des livres d’artistes. Je me suis posée un défi : faire fonctionner ensemble harmonieusement tous ces langages.” ITC \n
URL:https://www.agglo-lepuyenvelay.fr/event/saison-culturelle-exposition-isabelle-tristan-coudrot/
CATEGORIES:Saint-Vincent
ATTACH;FMTTYPE=image/png:https://www.agglo-lepuyenvelay.fr/wp-content/uploads/2019/08/apidae-event-img-116.png
END:VEVENT
BEGIN:VEVENT
DTSTART;TZID=Europe/Paris:20191019T000000
DTEND;TZID=Europe/Paris:20191020T000000
DTSTAMP:20260426T010819
CREATED:20190520T075422Z
LAST-MODIFIED:20190520T075422Z
UID:17512011-1571443200-1571529600@www.agglo-lepuyenvelay.fr
SUMMARY:L'Alti L'igérienne - La balade de la Loire !
DESCRIPTION:Deux jours de randonnée en itinérance\nSur deux jours et en itinérance\, les randonneurs pourront emprunter des itinéraires inédits autour des gorges de la Loire GR 3 et du Tour des volcans du Velay GR 40. \nLieu : Saint Vincent 43800 Saint-Vincent \nQuatre itinéraires seront proposés pour que chacun trouve sa rando : de la famille au sportif.\nDéparts de 4 villages : Allègre\, Retournac\, Blanlhac et Saint Vincent.\nAfin de favoriser la convivialité les randonnées se feront en petits groupes de 15 marcheurs accompagnés par un animateur du Comité.  \nSoirée étape à Vorey-sur-Arzon\nLe samedi soir\, tous les groupes de randonneurs se rejoindront à Vorey-sur-Arzon pour la soirée étape. Une soirée animée sera proposée avec repas et de nombreuses animations.\nL’hébergement\, les pique-niques\, le repas et les petits déjeuners seront prévus pour les deux jours de randonnées. \n1/ La balade de la Loire !\nFamille et rando douce\nDépart : Saint Vincent\n1er jour : Saint-Vincent – Vorey-sur-Arzon 10 km ;\n2e jour : Vorey-sur-Arzon – Saint-Vincent 9 km ;\nD + : 540m \nLa rando des gorges de la Loire\, au départ de Retournac (niveau : moyen)\n•	1er jour : Retournac – Vorey-sur-Arzon\, 20 km\n•	2e jour : Vorey-sur-Arzon – Retournac\, 16 km\n•	Dénivelé positif total : + 1211 m \nLa rando des sucs\, au départ de Blanlhac\n(niveau : moyen)\n•	1er jour : Blanlhac – Vorey-sur-Arzon\, 18 km\n•	2e jour : Vorey-sur-Arzon – Blanlhac\, 16 km\n•	Dénivelé positif total : + 1268 m \nLa grande rando\, au départ d’Allègre\n(niveau difficile)\n•	1er jour : Allègre – Vorey-sur-Arzon\, 26 km\n•	2e jour : Vorey-sur-Arzon – Allègre\, 25 km\n•	Dénivelé positif total : + 1378 m \n
URL:https://www.agglo-lepuyenvelay.fr/event/lalti-ligerienne-la-balade-de-la-loire/
CATEGORIES:Saint-Vincent
ATTACH;FMTTYPE=image/png:https://www.agglo-lepuyenvelay.fr/wp-content/uploads/2019/05/apidae-event-img-2788.png
END:VEVENT
END:VCALENDAR