



BEGIN:VCALENDAR
VERSION:2.0
PRODID:-//Communauté d&#039;Agglomération du Puy-en-Velay, Haute-Loire (43) - ECPv4.6.25//NONSGML v1.0//EN
CALSCALE:GREGORIAN
METHOD:PUBLISH
X-WR-CALNAME:Communauté d&#039;Agglomération du Puy-en-Velay, Haute-Loire (43)
X-ORIGINAL-URL:https://www.agglo-lepuyenvelay.fr
X-WR-CALDESC:Évènements pour Communauté d&#039;Agglomération du Puy-en-Velay, Haute-Loire (43)
BEGIN:VEVENT
DTSTART;TZID=Europe/Paris:20191202T000000
DTEND;TZID=Europe/Paris:20200131T000000
DTSTAMP:20260423T221723
CREATED:20190828T065946Z
LAST-MODIFIED:20190828T065946Z
UID:18230042-1575244800-1580428800@www.agglo-lepuyenvelay.fr
SUMMARY:Saison culturelle :"Exposition : un si joli village"
DESCRIPTION:A partir du 2 décembre les murs de la médiathèque se couvriront de reproductions grandeur nature de fresques murales latino-américaines.\nInauguration le dimanche 8 décembre à partir de 11h. \nLieu :  \n 43800 Saint-Vincent \nToutes interrogent notre rapport à la planète et à l’environnement. Une fresque sera installée à l’école et une autre à la crèche.\n Le 8 décembre vous pourrez découvrir le parcours artistique inventé par Sylvaine Hasse. Il nous amènera dans les rues et sur les places du village.\nLe jeudi 19 décembre à l’Assemblée\, sera présenté et projeté le très beau film d’Antoine Page\, “c’est assez bien d’être fou” en hommage à Bilal Berreni\, le dessinateur et Street-artiste mort dramatiquement en 2013. \n
URL:https://www.agglo-lepuyenvelay.fr/event/saison-culturelle-exposition-un-si-joli-village/
CATEGORIES:Saint-Vincent
ATTACH;FMTTYPE=image/png:https://www.agglo-lepuyenvelay.fr/wp-content/uploads/2019/08/apidae-event-img-168.png
END:VEVENT
END:VCALENDAR